BEGIN:VCALENDAR
VERSION:2.0
PRODID:-//sebbo.net//ical-generator//EN
URL:https://lectures.london/birkbeck-university-of-london/celebrating-25-y
 ears-of-the-world-prison-brief/calender.ics
NAME:Lectures London
X-WR-CALNAME:Lectures London
TIMEZONE-ID:Europe/London
X-WR-TIMEZONE:Europe/London
BEGIN:VEVENT
UID:10b3b3ad-2fd5-4e60-ab76-11cd095ff0ed
SEQUENCE:0
DTSTAMP:20260419T063232
DTSTART:20260421T170000
DTEND:20260421T180000
SUMMARY:Celebrating 25 years of the World Prison Brief
LOCATION:Birkbeck\, University of London: Online
URL;VALUE=URI:https://www.bbk.ac.uk/events/event/54692/celebrating-25-year
 s-of-the-world-prison-brief
END:VEVENT
END:VCALENDAR