BEGIN:VCALENDAR
VERSION:2.0
PRODID:-//sebbo.net//ical-generator//EN
URL:https://lectures.london/birkbeck-university-of-london/diversity-in-dev
 elopmental-science-conference-2026/calender.ics
NAME:Lectures London
X-WR-CALNAME:Lectures London
TIMEZONE-ID:Europe/London
X-WR-TIMEZONE:Europe/London
BEGIN:VEVENT
UID:ce29bf82-8d53-4a78-9517-e2852c93e824
SEQUENCE:0
DTSTAMP:20260420T064134
DTSTART:20260423T083000
DTEND:20260423T093000
SUMMARY:Diversity in Developmental Science Conference 2026
LOCATION:Birkbeck\, University of London: Birkbeck Clore Management Centre
URL;VALUE=URI:https://www.bbk.ac.uk/events/event/59232/diversity-in-develo
 pmental-science-conference-2026
END:VEVENT
END:VCALENDAR