BEGIN:VCALENDAR
VERSION:2.0
PRODID:-//sebbo.net//ical-generator//EN
URL:https://lectures.london/birkbeck-university-of-london/new-wave-anatoli
 an-food-in-london/calender.ics
NAME:Lectures London
X-WR-CALNAME:Lectures London
TIMEZONE-ID:Europe/London
X-WR-TIMEZONE:Europe/London
BEGIN:VEVENT
UID:b54546ff-c2fa-4cfa-8534-f890658c88ca
SEQUENCE:0
DTSTAMP:20260420T064134
DTSTART:20260422T090000
DTEND:20260422T100000
SUMMARY:New Wave Anatolian Food in London
LOCATION:Birkbeck\, University of London: Birkbeck Clore Management Centre
URL;VALUE=URI:https://www.bbk.ac.uk/events/event/61052/new-wave-anatolian-
 food-in-london
END:VEVENT
END:VCALENDAR