BEGIN:VCALENDAR
VERSION:2.0
PRODID:-//sebbo.net//ical-generator//EN
URL:https://lectures.london/cambridge-university/public-reading-series-ger
 many-in-text-and-context-with-bestselling-author-seyda-kurt/calender.ics
NAME:Lectures London
X-WR-CALNAME:Lectures London
TIMEZONE-ID:Europe/London
X-WR-TIMEZONE:Europe/London
BEGIN:VEVENT
UID:1a7856a5-76d6-4f26-b6e3-4010eb51c8c7
SEQUENCE:0
DTSTAMP:20260422T063506
DTSTART:20260426T140000
DTEND:20260426T153000
SUMMARY:Public reading series: Germany in Text and Context with bestsellin
 g author Seyda Kurt
LOCATION:Cambridge University: Cambridge Public Library
DESCRIPTION:Germany in Text and Context is a public reading series that in
 vites you to explore Germany’s past\, present\, and future through liter
 ature. The series combines short literary readings with expert insights an
 d lively audience discussion. The readings are carefully chosen to connect
  literature to topics that resonate far beyond Germany. Themes include cla
 ssism\, climate change\, feminism and colonial cities. Together\, the sess
 ions explore how literature can help us think critically about shared glob
 al challenges. More info on the series: https://www.daad.cam.ac.uk/worksho
 ps/germany-in-text-and-context Register for free: https://www.eventbrite.c
 o.uk/e/germany-in-text-and-context-author-seyda-kurt-on-her-book-hate-tick
 ets-1985879928324?aff=oddtdtcreator
URL;VALUE=URI:http://www.admin.cam.ac.uk/whatson/detail.shtml?uid=bf99a3c0
 -4a1b-4f7d-b977-5e78fa137b75
END:VEVENT
END:VCALENDAR