BEGIN:VCALENDAR
VERSION:2.0
PRODID:-//sebbo.net//ical-generator//EN
URL:https://lectures.london/cambridge-university/publishing-your-first-tra
 de-book/calender.ics
NAME:Lectures London
X-WR-CALNAME:Lectures London
TIMEZONE-ID:Europe/London
X-WR-TIMEZONE:Europe/London
BEGIN:VEVENT
UID:fe1d162d-0dd6-4334-8d0c-7fa1a867ec67
SEQUENCE:0
DTSTAMP:20260423T063613
DTSTART:20260429T110000
DTEND:20260429T123000
SUMMARY:Publishing your first trade book
LOCATION:Cambridge University: Newnham College
DESCRIPTION:Have you got a great idea for a trade book? Join members of th
 e Margaret Anstee Centre for Global Studies as we hear from a panel of exp
 erts about how to approach publishing your first trade book. Chair: Dr Car
 ol Cooper\, Author and Associate Fellow at Newnham College Caroline Hardma
 n\, Literary Agent\, Hardman & Swainson LLP Dr George Owers\, Author and S
 enior Editor\, Polity Press Professor Pragya Agarwal\, Author and Royal Li
 terary Fund Writing Fellow at Newnham College In this seminar we hope to d
 emystify the publishing process and give some practical advice to research
 ers about how to go about finding an agent and publisher\, as well as how 
 to work with an editor on your first trade book. We have a brilliant panel
  of speakers and this promises to be a very useful and enjoyable session. 
 All are welcome! 11am to 12.30pm on 29 April 2026 Lucia Windsor Room\, New
 nham College
URL;VALUE=URI:http://www.admin.cam.ac.uk/whatson/detail.shtml?uid=b9865a3a
 -702b-4317-9952-b93fd101af97
END:VEVENT
END:VCALENDAR