BEGIN:VCALENDAR
VERSION:2.0
PRODID:-//sebbo.net//ical-generator//EN
URL:https://lectures.london/cambridge-university/translating-conflict-and-
 refuge-language-displacement-and-the-politics-of-representation/calender.i
 cs
NAME:Lectures London
X-WR-CALNAME:Lectures London
TIMEZONE-ID:Europe/London
X-WR-TIMEZONE:Europe/London
BEGIN:VEVENT
UID:ff931ed0-34ac-4010-9ed4-99ec8460b8c7
SEQUENCE:0
DTSTAMP:20260421T063452
DTSTART:20260424T090000
DTEND:20260424T173000
SUMMARY:Translating Conflict and Refuge: Language\, displacement\, and the
  politics of representation
LOCATION:Cambridge University: West Hub
DESCRIPTION:This event will bring together translators\, interpreters\, sc
 holars\, refugees\, and NGO representatives to develop a deeper understand
 ing of the complex demands and realities involved in translating conflict 
 and refuge. Our aim is to create a space for meaningful exchange as well a
 s to generate concrete opportunities for collaboration. Plenary talks in t
 he morning will be offered in hybrid format\; parallel sessions in the aft
 ernoon will be in person only and will take the form of standard papers de
 livered in thematic panels. This conference addresses topics related to ar
 med conflict and forced displacement\, including discussion of violence an
 d humanitarian crises\, and their impacts on individuals and communities. 
 Some sessions may reference traumatic experiences.
URL;VALUE=URI:http://www.admin.cam.ac.uk/whatson/detail.shtml?uid=a9936e74
 -6528-419f-83fb-db3be97579c2
END:VEVENT
END:VCALENDAR