BEGIN:VCALENDAR
VERSION:2.0
PRODID:-//sebbo.net//ical-generator//EN
URL:https://lectures.london/gresham-college/give-peace-a-chance-legal-impl
 ications-of-the-israelpalestine-conflict-/calender.ics
NAME:Lectures London
X-WR-CALNAME:Lectures London
TIMEZONE-ID:Europe/London
X-WR-TIMEZONE:Europe/London
BEGIN:VEVENT
UID:1c47d14b-c0aa-49a1-9f27-da4d90f9f0b7
SEQUENCE:0
DTSTAMP:20260424T063623
DTSTART:20260430T160000
DTEND:20260430T170000
SUMMARY:Give Peace a Chance: Legal Implications of the Israel-Palestine Co
 nflict 
LOCATION:Gresham College: undefined
URL;VALUE=URI:https://www.gresham.ac.uk/whats-on/israel-palestine-law
END:VEVENT
END:VCALENDAR