BEGIN:VCALENDAR
VERSION:2.0
PRODID:-//sebbo.net//ical-generator//EN
URL:https://lectures.london/imperial-college/global-development-lab-guest-
 talk-with-dr-stephane-straub-world-bank-group/calender.ics
NAME:Lectures London
X-WR-CALNAME:Lectures London
TIMEZONE-ID:Europe/London
X-WR-TIMEZONE:Europe/London
BEGIN:VEVENT
UID:cbcce3cd-dbab-4310-ad11-315dc483daf0
SEQUENCE:0
DTSTAMP:20260422T063506
DTSTART:20260428T090000
DTEND:20260428T100000
SUMMARY:Global Development Lab Guest Talk with Dr. Stephane Straub\, World
  Bank Group
LOCATION:Imperial College: LG101\, Business School\, Imperial Business Sch
 ool
DESCRIPTION:Prioritizing Infrastructure Investment: From Current Assets to
  Future Growth \nGlobal Development Lab Guest Lecture with Dr. Stéphane 
 Straub\nInfrastructure underpins economic growth\, shapes development traj
 ectories\, and determines how effectively societies deliver value to their
  people. Yet decisions around infrastructure investment are rarely simple\
 ; often constrained by incomplete data\, unclear returns\, and competing p
 riorities.\nIn this talk\, Dr. Stéphane Straub\, Chief Economist for the 
 Infrastructure Vice-Presidency at the World Bank Group\, will present the 
 findings of a new WBG report – Prioritizing Infrastructure Investment. 
 The report draws on a comprehensive analysis of infrastructure assets acro
 ss many countries\, examining the social rates of return on infrastructure
  investment and how countries can optimise their investment mix to maximis
 e value for people.\nThe report and its accompanying datasets are designed
  to equip governments\, practitioners\, and development finance experts wi
 th the tools to prioritise infrastructure investments more effectively. \n
 Dr. Straub will present the report’s findings and reflect on the World B
 ank Group’s broader learning from infrastructure projects around the wor
 ld\, followed by a Q&A session.\nAgenda:\n\n10.00-10.05 – Welcome from D
 r. Mirabelle Muuls\n10.05-10.30 – Presentation by Dr. Stéphane Straub\n
 10.30-10.50 – Q&A Session\, chaired by Dr. Mirabelle Muuls\n10.50 – Cl
 ose\n\nAbout the Speaker\nDr. Stéphane Straub is a distinguished economis
 t and scholar renowned for his extensive contributions to the fields of ec
 onomics\, infrastructure development\, and institutional economics. As the
  Chief Economist for the Infrastructure Vice-Presidency\, Stéphane brings
  his wealth of knowledge and expertise to drive forward the analysis of tr
 ansformative infrastructure projects and policies.\nThis is an in-person o
 nly event. No registration is required.
URL;VALUE=URI:https://www.imperial.ac.uk/events/208507/global-development-
 lab-guest-talk-with-dr-stephane-straub-world-bank-group/
END:VEVENT
END:VCALENDAR