BEGIN:VCALENDAR
VERSION:2.0
PRODID:-//sebbo.net//ical-generator//EN
URL:https://lectures.london/kings-college-london/before-the-asiento-the-en
 glish-atlantic-slave-trade-from-its-origins-through-to-1713/calender.ics
NAME:Lectures London
X-WR-CALNAME:Lectures London
TIMEZONE-ID:Europe/London
X-WR-TIMEZONE:Europe/London
BEGIN:VEVENT
UID:53e3d356-7005-4133-990e-a455c7d992d5
SEQUENCE:0
DTSTAMP:20260425T062826
DTSTART:20260430T161500
DTEND:20260430T174500
SUMMARY:Before the Asiento: the English Atlantic slave trade from its orig
 ins through to 1713
LOCATION:King's College London: King's Building\nRoom: Dockrill Room (KIN 
 628)\nStrand Campus\, Strand\, London\, WC2R 2LS
URL;VALUE=URI:https://www.kcl.ac.uk/events/before-the-asiento-the-english-
 atlantic-slave-trade-from-its-origins-through-to-1713
END:VEVENT
END:VCALENDAR