BEGIN:VCALENDAR
VERSION:2.0
PRODID:-//sebbo.net//ical-generator//EN
URL:https://lectures.london/kings-college-london/book-talk-breaking-the-ne
 w-axis-with-harry-halem/calender.ics
NAME:Lectures London
X-WR-CALNAME:Lectures London
TIMEZONE-ID:Europe/London
X-WR-TIMEZONE:Europe/London
BEGIN:VEVENT
UID:0e1d4d3b-8b81-4ec3-88ae-8f4a8eec656b
SEQUENCE:0
DTSTAMP:20260423T063613
DTSTART:20260429T160000
DTEND:20260429T171500
SUMMARY:Book Talk: Breaking the New Axis with Harry Halem
LOCATION:King's College London: King's Building\nRoom: KIN 628 (Dockrill R
 oom)\nStrand Campus\, Strand\, London\, WC2R 2LS
URL;VALUE=URI:https://www.kcl.ac.uk/events/book-talk-breaking-the-new-axis
 -with-harry-halem
END:VEVENT
END:VCALENDAR