BEGIN:VCALENDAR
VERSION:2.0
PRODID:-//sebbo.net//ical-generator//EN
URL:https://lectures.london/kings-college-london/book-talk-preparing-for-w
 ar-strategy-power-and-military-change-with-oliver-schmitt/calender.ics
NAME:Lectures London
X-WR-CALNAME:Lectures London
TIMEZONE-ID:Europe/London
X-WR-TIMEZONE:Europe/London
BEGIN:VEVENT
UID:fae9d0e2-4845-4cac-8d97-c728820dfe7d
SEQUENCE:0
DTSTAMP:20260422T063506
DTSTART:20260428T160000
DTEND:20260428T171500
SUMMARY:Book Talk: Preparing for War: Strategy\, Power and Military Change
  with Oliver Schmitt
LOCATION:King's College London: Bush House\nRoom: Bush House (S) 2.03\nStr
 and campus\, 30 Aldwych\, London\, WC2B 4BG
URL;VALUE=URI:https://www.kcl.ac.uk/events/book-talk-preparing-for-war-str
 ategy-power-and-military-change-with-oliver-schmitt
END:VEVENT
END:VCALENDAR