BEGIN:VCALENDAR
VERSION:2.0
PRODID:-//sebbo.net//ical-generator//EN
URL:https://lectures.london/kings-college-london/book-talk-the-revolutioni
 sts-the-story-of-the-extremists-who-hijacked-the-1970s-with-jason-burke/ca
 lender.ics
NAME:Lectures London
X-WR-CALNAME:Lectures London
TIMEZONE-ID:Europe/London
X-WR-TIMEZONE:Europe/London
BEGIN:VEVENT
UID:0bf3ea10-8b28-4962-a41c-b129df35df78
SEQUENCE:0
DTSTAMP:20260420T064134
DTSTART:20260422T170000
DTEND:20260422T180000
SUMMARY:Book Talk: 'The Revolutionists: The Story of the Extremists Who Hi
 jacked the 1970s' with Jason Burke
LOCATION:King's College London: King's Building\nRoom: Dockrill Room (KIN 
 628)\nStrand Campus\, Strand\, London\, WC2R 2LS
URL;VALUE=URI:https://www.kcl.ac.uk/events/book-talk-the-revolutionists-th
 e-story-of-the-extremists-who-hijacked-the-1970s-with-jason-burke
END:VEVENT
END:VCALENDAR