BEGIN:VCALENDAR
VERSION:2.0
PRODID:-//sebbo.net//ical-generator//EN
URL:https://lectures.london/kings-college-london/book-talk-us-grand-strate
 gy-and-the-madman-theory-with-james-d-boys/calender.ics
NAME:Lectures London
X-WR-CALNAME:Lectures London
TIMEZONE-ID:Europe/London
X-WR-TIMEZONE:Europe/London
BEGIN:VEVENT
UID:4bac8b31-9287-4b9e-a2ac-e86e2350b347
SEQUENCE:0
DTSTAMP:20260419T063232
DTSTART:20260423T160000
DTEND:20260423T171500
SUMMARY:Book Talk: US Grand Strategy and the Madman Theory with James D. B
 oys
LOCATION:King's College London: King's Building\nRoom: KIN 628 (Dockrill R
 oom)\nStrand Campus\, Strand\, London\, WC2R 2LS
URL;VALUE=URI:https://www.kcl.ac.uk/events/book-talk-us-grand-strategy-and
 -the-madman-theory-with-james-d.-boys
END:VEVENT
END:VCALENDAR