BEGIN:VCALENDAR
VERSION:2.0
PRODID:-//sebbo.net//ical-generator//EN
URL:https://lectures.london/kings-college-london/from-magic-to-monumentali
 ty-the-museum-in-todays-india/calender.ics
NAME:Lectures London
X-WR-CALNAME:Lectures London
TIMEZONE-ID:Europe/London
X-WR-TIMEZONE:Europe/London
BEGIN:VEVENT
UID:1ded0e83-572d-46c9-9a96-1c8e58ac8c6a
SEQUENCE:0
DTSTAMP:20260422T063506
DTSTART:20260427T160000
DTEND:20260427T173000
SUMMARY:From Magic to Monumentality: the ‘Museum’ in Today’s India
LOCATION:King's College London: Bush House\nRoom: (NE) 0.01\nStrand campus
 \, 30 Aldwych\, London\, WC2B 4BG
URL;VALUE=URI:https://www.kcl.ac.uk/events/from-magic-to-monumentality-the
 -museum-in-todays-india
END:VEVENT
END:VCALENDAR