BEGIN:VCALENDAR
VERSION:2.0
PRODID:-//sebbo.net//ical-generator//EN
URL:https://lectures.london/kings-college-london/judicial-innovation-in-ti
 mes-of-planetary-crisis-international-courts-between-resilience-and-reconf
 iguration/calender.ics
NAME:Lectures London
X-WR-CALNAME:Lectures London
TIMEZONE-ID:Europe/London
X-WR-TIMEZONE:Europe/London
BEGIN:VEVENT
UID:dc53d4ca-dff0-41b4-a306-984f6de635e2
SEQUENCE:0
DTSTAMP:20260424T063623
DTSTART:20260430T120000
DTEND:20260430T133000
SUMMARY:Judicial Innovation in Times of Planetary Crisis: International Co
 urts Between Resilience and Reconfiguration
LOCATION:King's College London: Somerset House East Wing\nRoom: Ante Room 
 (SW1.17)\nStrand Campus\, Strand\, London WC2R 2LS
URL;VALUE=URI:https://www.kcl.ac.uk/events/judicial-innovation-in-times-of
 -planetary-crisis-international-courts-between-resilience-and-reconfigurat
 ion
END:VEVENT
END:VCALENDAR