BEGIN:VCALENDAR
VERSION:2.0
PRODID:-//sebbo.net//ical-generator//EN
URL:https://lectures.london/kings-college-london/long-term-conditions-infl
 ammation-and-medical-dismissal/calender.ics
NAME:Lectures London
X-WR-CALNAME:Lectures London
TIMEZONE-ID:Europe/London
X-WR-TIMEZONE:Europe/London
BEGIN:VEVENT
UID:fa760b53-ec63-4223-9974-2b1567345ccd
SEQUENCE:0
DTSTAMP:20260422T063506
DTSTART:20260428T120000
DTEND:20260428T130000
SUMMARY:Long Term Conditions\, Inflammation and Medical Dismissal
LOCATION:King's College London: Institute of Psychiatry\, Psychology & Neu
 roscience (IoPPN)\nRoom: Seminar Room 3\nIoPPN\, 16 De Crespigny Park\, Lo
 ndon SE5 8AB
URL;VALUE=URI:https://www.kcl.ac.uk/events/long-term-conditions-inflammati
 on-and-medical-dismissal
END:VEVENT
END:VCALENDAR