BEGIN:VCALENDAR
VERSION:2.0
PRODID:-//sebbo.net//ical-generator//EN
URL:https://lectures.london/kings-college-london/mathematical-colloquium-s
 caling-limits-of-random-trees-by-christina-goldschmidt/calender.ics
NAME:Lectures London
X-WR-CALNAME:Lectures London
TIMEZONE-ID:Europe/London
X-WR-TIMEZONE:Europe/London
BEGIN:VEVENT
UID:ba4250d9-3a6d-4a9b-b3fa-b53551b1d5c4
SEQUENCE:0
DTSTAMP:20260422T063506
DTSTART:20260428T143000
DTEND:20260428T153000
SUMMARY:Mathematical Colloquium: Scaling Limits of Random Trees by Christi
 na Goldschmidt
LOCATION:King's College London: Bush House\nRoom: Bush House Lecture Theat
 re 2\, BH(S) 4.04\nStrand campus\, 30 Aldwych\, London\, WC2B 4BG
URL;VALUE=URI:https://www.kcl.ac.uk/events/mathematical-colloquium-scaling
 -limits-of-random-trees-by-christina-goldschmidt
END:VEVENT
END:VCALENDAR