BEGIN:VCALENDAR
VERSION:2.0
PRODID:-//sebbo.net//ical-generator//EN
URL:https://lectures.london/kings-college-london/professor-alfredo-iacoang
 eli-inaugural-lecture/calender.ics
NAME:Lectures London
X-WR-CALNAME:Lectures London
TIMEZONE-ID:Europe/London
X-WR-TIMEZONE:Europe/London
BEGIN:VEVENT
UID:ef4ad7e3-b15f-4d05-9bf5-ce63c2c55640
SEQUENCE:0
DTSTAMP:20260425T062826
DTSTART:20260430T163000
DTEND:20260430T173000
SUMMARY:Professor Alfredo Iacoangeli - Inaugural Lecture
LOCATION:King's College London: Institute of Psychiatry\, Psychology & Neu
 roscience (IoPPN)\nRoom: Wolfson Lecture Theatre\nIoPPN\, 16 De Crespigny 
 Park\, London SE5 8AB
URL;VALUE=URI:https://www.kcl.ac.uk/events/professor-alfredo-iacoangeli-in
 augural-lecture
END:VEVENT
END:VCALENDAR