BEGIN:VCALENDAR
VERSION:2.0
PRODID:-//sebbo.net//ical-generator//EN
URL:https://lectures.london/kings-college-london/trust-and-knowledge-in-th
 e-age-of-genai-a-conversation-with-jimmy-wales/calender.ics
NAME:Lectures London
X-WR-CALNAME:Lectures London
TIMEZONE-ID:Europe/London
X-WR-TIMEZONE:Europe/London
BEGIN:VEVENT
UID:b1f51a48-df4a-4493-a012-1d82f9be675a
SEQUENCE:0
DTSTAMP:20260421T063452
DTSTART:20260424T163000
DTEND:20260424T174500
SUMMARY:Trust and Knowledge in the Age of GenAI: A Conversation with Jimmy
  Wales
LOCATION:King's College London: Strand Campus\nRoom: Safra Lecture Theatre
 Strand\, London\, WC2R 2LS
URL;VALUE=URI:https://www.kcl.ac.uk/events/trust-and-knowledge-in-the-age-
 of-genai-a-conversation-with-jimmy-wales
END:VEVENT
END:VCALENDAR