BEGIN:VCALENDAR
VERSION:2.0
PRODID:-//sebbo.net//ical-generator//EN
URL:https://lectures.london/london-school-of-economics/global-ideas-for-gl
 obal-challenges-a-panel-in-honour-of-nick-stern/calender.ics
NAME:Lectures London
X-WR-CALNAME:Lectures London
TIMEZONE-ID:Europe/London
X-WR-TIMEZONE:Europe/London
BEGIN:VEVENT
UID:036c7518-67ea-4107-87bf-317ca089528a
SEQUENCE:0
DTSTAMP:20260420T064134
DTSTART:20260422T173000
DTEND:20260422T190000
SUMMARY:Global ideas for global challenges: a panel in honour of Nick Ster
 n
LOCATION:London School of Economics: In-person and online public event (LS
 E campus\, venue tbc to ticketholders)
DESCRIPTION:Wednesday 22 April 2026 6.30pm - 8pmJoin us for this special p
 ublic event to mark Nicholas Stern's 80th birthday.Ideas matter. They have
  been core to the advances in health\, education\, and economic developmen
 t the world has seen since the second world war. But societies and global 
 institutions now need to evolve to address daunting challenges\, including
  climate change\, inequality and make the most of the opportunities and ma
 nage the risks arising from new technologies. The panel brings together th
 e leaders of the world’s premier economic institutions to discuss how id
 eas have evolved to shape our world and what is needed for the future.Meet
  our speakers and chairKristalina Georgieva has been serving as Managing D
 irector of the International Monetary Fund since October 1\, 2019. She beg
 an her second term on October 1\, 2024. Before joining the IMF\, Ms. Geor
 gieva served as CEO of the World Bank from January 2017 to September 2019\
 , where she also held the role of Interim President. Previously\, Ms. Geo
 rgieva helped shape the agenda of the European Union\, first as Commission
 er for International Cooperation\, Humanitarian Aid and Crisis Response\, 
 and later as Vice President for Budget and Human Resources. During her ac
 ademic career\, she was a visiting fellow at LSE.Since November 2019\, Chr
 istine Lagarde (@Lagarde) has been the President of the European Central B
 ank. Between 2011 and 2019\, she served as the eleventh Managing Director 
 of the International Monetary Fund (IMF). Prior to that she served as Fren
 ch Economic Finance Minister from 2007 to 2011 after having been Trade Sec
 retary from 2005 to 2007. A lawyer by background\, she practiced for 20 ye
 ars with the international law firm Baker McKenzie\, of which she became g
 lobal chairman in 1999.Ngozi Okonjo-Iweala (@NOIweala) is the Director-Gen
 eral of the World Trade Organisation. The first woman and first African to
  hold the position. She is an economist and international development expe
 rt with over 40 years of experience. She served as Nigeria’s first femal
 e and longest serving Finance Minister and was also the first female Forei
 gn Minister.Larry Kramer has been President and Vice Chancellor of LSE sin
 ce April 2024. A constitutional scholar\, university administrator\, and p
 hilanthropic leader\, he was previously the President of the William and F
 lora Hewlett Foundation and the Dean of Stanford Law School.More about thi
 s eventJoin us on campus or register to watch the event online at LSE Live
 . LSE Live is the home for our live streams\, allowing you to tune in and 
 join the global debate at LSE\, wherever you are in the world. If you can'
 t attend live\, a video will be made available shortly afterwards on LSE's
  YouTube channel.Launched in 2025\, the Global School of Sustainability at
  LSE (GSoS) is the centre of social science expertise for sustainability i
 mpact at LSE. We work in partnerships across the LSE community and beyond 
 to advance pioneering sustainability research and global policy engagement
 .The Grantham Research Institute on Climate Change and the Environment was
  established by LSE in 2008 to create a world-leading multidisciplinary ce
 ntre for policy-relevant research and training on climate change and the e
 nvironment\, bringing together international expertise from across LSE and
  beyond\, including on economics\, finance\, geography\, the environment\,
  science\, law\, international relations\, development and political scien
 ce.STICERD brings together world-class academics to put economics and rela
 ted disciplines at the forefront of research and policy. Founded in 1978 b
 y the renowned Japanese economist Michio Morishima\, with donations from S
 untory and Toyota\, we are a thriving research community within LSE.Hashta
 g for this event: #LSEEventsAny questions?If you have a query see our Even
 ts FAQ or take a look at the information below.You can also contact us a
 t events@lse.ac.uk.LSE Blogs Many speakers at LSE events also write for LS
 E Blogs\, which present research and critical commentary accessibly for a 
 public audience. Follow LSE British Politics\, the Business Review\, LSE 
 Impact\, LSE European Politics and the LSE Review of Books to learn more
  about the debates our events series present.Live captions If the event is
  live streamed\, automated live captions will be available. Please note th
 at this feature uses Automatic Speech Recognition (ASR) technology\, or ma
 chine generated transcription and is not 100% accurate.Photography and fil
 ming Photographs are regularly taken at LSE events both by LSE staff and m
 embers of the media and events are routinely filmed. Photographs from even
 ts taken by LSE staff are often used on LSE's social media accounts\, with
  videos being made available on the LSE Player. If you have any concerns a
 bout this please contact the event organiser in advance of the event.Media
  queries Please contact the Press Office if you would like to request a pr
 ess seat or have a media query about this event\, email LSE.Press.Events@l
 se.ac.uk. Please note that press seats are usually allocated at least 24 h
 ours before each event.Podcasts We aim to make all LSE events available as
  a podcast subject to receiving permission from the speaker/s to do this\,
  and subject to no technical problems with the recording of the event. Pod
 casts are normally available 1 week after the event. Podcasts and videos o
 f past events can be found online.Social Media Event updates and other inf
 ormation about what’s happening at LSE can be found on our Facebook pag
 e and for live photos from events and around campus\, follow us on Insta
 gram.Livestreams and archive videos of past lectures are shared on our Yo
 uTube channel while event podcasts can be found on the LSE Player.Attend
 ing our events in-person or online? Join the conversation using #LSEEvents
 .Accessibility If you are planning to attend this event and would like det
 ails on how to get here and what time to arrive\, as well as on accessibil
 ity and special requirements\, please refer to LSE Events FAQ.  LSE aims 
 to ensure that people have equal access to these public events\, but pleas
 e contact the events organiser as far as possible in advance if you have
  any access requirements so that arrangements\, where possible\, can be ma
 de. If the event is ticketed\, please ensure you get in touch in advance o
 f the ticket release date. Access Guides to all our venues can be viewed 
 online.WIFI Access LSE has now introduced wireless for guests and visitors
  in association with 'The Cloud'\, also in use at many other locations acr
 oss the UK. If you are on campus visiting for the day or attending a confe
 rence or event\, you can connect your device to wireless. See more informa
 tion and create an account at Join the Cloud.Visitors from other participa
 ting institutions are encouraged to use eduroam. If you are having troubl
 e connecting to eduroam\, please contact your home institution for assista
 nce.The Cloud is only intended for guest and visitor access to wifi. Exist
 ing LSE staff and students are encouraged to use eduroam instead.From tim
 e to time there are changes to event details so we strongly recommend that
  if you plan to attend this event you check back on this listing on the da
 y of the event.LSE holds a wide range of events\, covering many of the mos
 t controversial issues of the day\, and speakers at our events may express
  views that cause offence. The views expressed by speakers at LSE events d
 o not reflect the position or views of the London School of Economics and 
 Political Science.
URL;VALUE=URI:https://www.lse.ac.uk/events/global-1
END:VEVENT
END:VCALENDAR