BEGIN:VCALENDAR
VERSION:2.0
PRODID:-//sebbo.net//ical-generator//EN
URL:https://lectures.london/london-school-of-economics/greek-prime-ministe
 rs-in-the-eye-of-the-storm/calender.ics
NAME:Lectures London
X-WR-CALNAME:Lectures London
TIMEZONE-ID:Europe/London
X-WR-TIMEZONE:Europe/London
BEGIN:VEVENT
UID:d9438e41-b000-4d18-825a-7949c43e8999
SEQUENCE:0
DTSTAMP:20260424T063623
DTSTART:20260429T173000
DTEND:20260429T190000
SUMMARY:Greek Prime Ministers in the eye of the storm
LOCATION:London School of Economics: In-person public event (Malaysia Audi
 torium\, Centre Building)
DESCRIPTION:Wednesday 29 April 2026 6.30pm - 8pmJoin us for this book laun
 ch of Greek Prime Ministers in the Eye of the Storm: Crisis Management and
  Institutional Change\, featuring authors Kevin Featherstone and Dimitris 
 Papadimitriou.When\, and how\, might crises force institutions to change? 
 Crisis management prompts expectations of exceptional behaviour\, leaders 
 raising their 'game'\, and of being empowered. The Greek crisis of 2009-18
  was severe: threatening bankruptcy and Greece's exit from the euro. Yet\,
  in a previous study of 2015\, Featherstone and Papadimitriou identified k
 ey institutional weaknesses embedded within Greek governments: of poor cen
 tral control and coordination\, the very qualities needed in a crisis. So\
 , how far did the crisis in Greece enable actors to overcome these critica
 l weaknesses? What lessons were drawn\, and when? Exploring change in a cr
 isis requires careful case study. Drawing on interviews with an extensive 
 range of personnel\, including each crisis Greek prime minister\, the auth
 ors meticulously explore how the four prime ministers of the period handle
 d the challenges of crisis management.Meet our speakers and chairKevin Fea
 therstone is Emeritus Professor (European Institute) and Research Affiliat
 e at the Hellenic Observatory\, LSE. He was Director of the Hellenic Obser
 vatory from 2002 to 2024. He served as Head of the European Institute in 2
 004-7\, 2011-12\, and 2015-18. He has held visiting positions at the Unive
 rsity of Minnesota\; New York University\; Harvard University\; and\, the 
 European University Institute (Firenze). Before LSE\, he held academic pos
 ts at the universities of Stirling and Bradford.Dimitris Papadimitriou is 
 Professor of Political Science at the University of Manchester\, where he 
 also serves as the Vice Dean of the Faculty of Humanities. In 2006/7 he wa
 s a S.J. Seeger Visiting Research Fellow at Princeton University. In 2010 
 he was a Visiting Fellow at the Macmillan Centre of International and Area
  Studies\, Yale University and a National Bank of Greece Senior Research F
 ellow at the Hellenic Observatory at LSE. He was the Director of the Manch
 ester Jean Monnet Centre of Excellence (2011-2022) and he is currently the
  co-Editor of the book series on European Politics with Manchester Univers
 ity Press. His is the (co)author/editor of nine books and numerous academi
 c articles. His latest book (co-authored with Kevin Featherstone)\, Prime 
 Ministers in the Eye of the Storm: crisis management and institutional cha
 nge in Greece was published by Oxford University Press in 2025.Declan Cost
 ello is the Deputy Director General in DG ECFIN since 2019. He is currentl
 y responsible for supervising the work of DG ECFIN’s country desks\, the
  implementation of fiscal surveillance under the Stability and Growth Pact
 \, as well as the design and implementation of the Recovery and Resilience
  plans. From May 2014\, he was the European Commission's Mission Chief for
  Greece\, as part of their Financial Assistance Programme. He joined the E
 uropean Commission in 1991 and has worked since then in the Directorate Ge
 neral for Economic and Financial Affairs.Stella Ladi is Professor in Publi
 c Policy at Queen Mary University of London and Professor at Panteion Univ
 ersity in Athens. She is the co-editor of European Political Science. She 
 is research fellow at the Hellenic Foundation for European and Foreign Pol
 icy (ELIAMEP). She has acted as a public policy expert at the Ministry of 
 the Interior and the Ministry of the Aegean\, Greece. She is the co-author
  of Capitalising on Constraint: Bailout Politics in Eurozone Countries\, 
 with Moury\, C.\, Cardoso\, D. and Gago\, A.Yaprak Gürsoy is Professor of
  European Politics and Chair in Contemporary Turkish Studies at LSE. Prior
  to joining the European Institute\, she was a Senior Lecturer and the Und
 ergraduate Programme Director of Politics and International Relations at A
 ston University. She was also a Senior Fellow at St Antony’s College\, O
 xford University and an Associate Professor at Istanbul Bilgi University.M
 ore about this eventThe Hellenic Observatory (@HO_LSE) is internationally 
 recognised as a leading research centre on contemporary Greece and Cyprus.
  In 2024\, it became the Hellenic Observatory Centre for Research on Conte
 mporary Greece and Cyprus\, with the strategy to expand its research base 
 both within LSE and beyond\, developing world-leading research on Greece a
 nd Cyprus. The new Centre is committed to critically engaging with key iss
 ues concerning Greece and Cyprus\, maintaining a non-partisan approach tha
 t fosters genuine debate among academics\, policymakers\, and the public. 
 Its work includes high-quality primary research for academic audiences\, a
 s well as translating research for broader knowledge exchange and policy i
 mpact.Hashtag for this event: #LSEEventsAny questions?If you have a query 
 see our Events FAQ or take a look at the information below.You can also 
 contact us at events@lse.ac.uk.LSE Blogs Many speakers at LSE events also 
 write for LSE Blogs\, which present research and critical commentary acces
 sibly for a public audience. Follow LSE British Politics\, the Business R
 eview\, LSE Impact\, LSE European Politics and the LSE Review of Books t
 o learn more about the debates our events series present.Live captions If 
 the event is live streamed\, automated live captions will be available. Pl
 ease note that this feature uses Automatic Speech Recognition (ASR) techno
 logy\, or machine generated transcription and is not 100% accurate.Photogr
 aphy and filming Photographs are regularly taken at LSE events both by LSE
  staff and members of the media and events are routinely filmed. Photograp
 hs from events taken by LSE staff are often used on LSE's social media acc
 ounts\, with videos being made available on the LSE Player. If you have an
 y concerns about this please contact the event organiser in advance of the
  event.Media queries Please contact the Press Office if you would like to 
 request a press seat or have a media query about this event\, email LSE.Pr
 ess.Events@lse.ac.uk. Please note that press seats are usually allocated a
 t least 24 hours before each event.Podcasts We aim to make all LSE events 
 available as a podcast subject to receiving permission from the speaker/s 
 to do this\, and subject to no technical problems with the recording of th
 e event. Podcasts are normally available 1 week after the event. Podcasts 
 and videos of past events can be found online.Social Media Event updates a
 nd other information about what’s happening at LSE can be found on our 
 Facebook page and for live photos from events and around campus\, follow
  us on Instagram.Livestreams and archive videos of past lectures are share
 d on our YouTube channel while event podcasts can be found on the LSE P
 layer.Attending our events in-person or online? Join the conversation usin
 g #LSEEvents.Accessibility If you are planning to attend this event and wo
 uld like details on how to get here and what time to arrive\, as well as o
 n accessibility and special requirements\, please refer to LSE Events FAQ.
   LSE aims to ensure that people have equal access to these public events
 \, but please contact the events organiser as far as possible in advance
  if you have any access requirements so that arrangements\, where possibl
 e\, can be made. If the event is ticketed\, please ensure you get in touch
  in advance of the ticket release date. Access Guides to all our venues c
 an be viewed online.WIFI Access LSE has now introduced wireless for guests
  and visitors in association with 'The Cloud'\, also in use at many other 
 locations across the UK. If you are on campus visiting for the day or atte
 nding a conference or event\, you can connect your device to wireless. See
  more information and create an account at Join the Cloud.Visitors from ot
 her participating institutions are encouraged to use eduroam. If you are 
 having trouble connecting to eduroam\, please contact your home institutio
 n for assistance.The Cloud is only intended for guest and visitor access t
 o wifi. Existing LSE staff and students are encouraged to use eduroam ins
 tead.From time to time there are changes to event details so we strongly r
 ecommend that if you plan to attend this event you check back on this list
 ing on the day of the event.LSE holds a wide range of events\, covering ma
 ny of the most controversial issues of the day\, and speakers at our event
 s may express views that cause offence. The views expressed by speakers at
  LSE events do not reflect the position or views of the London School of E
 conomics and Political Science.
URL;VALUE=URI:https://www.lse.ac.uk/events/greece-1
END:VEVENT
END:VCALENDAR