BEGIN:VCALENDAR
VERSION:2.0
PRODID:-//sebbo.net//ical-generator//EN
URL:https://lectures.london/soas/how-corporate-concentration-and-power-sha
 pe-food-systems-and-why-it-matters/calender.ics
NAME:Lectures London
X-WR-CALNAME:Lectures London
TIMEZONE-ID:Europe/London
X-WR-TIMEZONE:Europe/London
BEGIN:VEVENT
UID:f7bae22b-b6b0-4ad2-bbb1-f9d25410bf9d
SEQUENCE:0
DTSTAMP:20260423T063613
DTSTART:20260428T164500
DTEND:20260428T193000
SUMMARY:How corporate concentration and power shape food systems and why i
 t matters
LOCATION:SOAS: SOAS University of London
URL;VALUE=URI:https://www.soas.ac.uk/about/event/how-corporate-concentrati
 on-and-power-shape-food-systems-and-why-it-matters
END:VEVENT
END:VCALENDAR