BEGIN:VCALENDAR
VERSION:2.0
PRODID:-//sebbo.net//ical-generator//EN
URL:https://lectures.london/soas/humour-as-a-mode-of-criticism-in-chinese-
 video-art/calender.ics
NAME:Lectures London
X-WR-CALNAME:Lectures London
TIMEZONE-ID:Europe/London
X-WR-TIMEZONE:Europe/London
BEGIN:VEVENT
UID:e8f1102d-6783-493a-8935-4a389d573664
SEQUENCE:0
DTSTAMP:20260424T063623
DTSTART:20260430T160000
DTEND:20260430T170000
SUMMARY:Humour as a Mode of Criticism in Chinese Video Art
LOCATION:SOAS: KLT\, SOAS Main Building
URL;VALUE=URI:https://www.soas.ac.uk/about/event/humour-mode-criticism-chi
 nese-video-art
END:VEVENT
END:VCALENDAR