BEGIN:VCALENDAR
VERSION:2.0
PRODID:-//sebbo.net//ical-generator//EN
URL:https://lectures.london/soas/inaugural-lecture-series-professors-rache
 l-harrison-and-dina-matar/calender.ics
NAME:Lectures London
X-WR-CALNAME:Lectures London
TIMEZONE-ID:Europe/London
X-WR-TIMEZONE:Europe/London
BEGIN:VEVENT
UID:693d5818-02cd-4bc9-b2cd-2c56ffb59e7a
SEQUENCE:0
DTSTAMP:20260419T063232
DTSTART:20260423T170000
DTEND:20260423T190000
SUMMARY:Inaugural Lecture Series: Professors Rachel Harrison and Dina Mata
 r
LOCATION:SOAS: SOAS Gallery
URL;VALUE=URI:https://www.soas.ac.uk/about/event/inaugural-lecture-series-
 professors-rachel-harrison-and-dina-matar
END:VEVENT
END:VCALENDAR