BEGIN:VCALENDAR
VERSION:2.0
PRODID:-//sebbo.net//ical-generator//EN
URL:https://lectures.london/soas/meritorious-collecting-and-curating-in-bu
 ddhist-southeast-asia/calender.ics
NAME:Lectures London
X-WR-CALNAME:Lectures London
TIMEZONE-ID:Europe/London
X-WR-TIMEZONE:Europe/London
BEGIN:VEVENT
UID:adbcd68b-25ac-417b-b735-aec359f37e65
SEQUENCE:0
DTSTAMP:20260423T063613
DTSTART:20260428T163000
DTEND:20260428T180000
SUMMARY:Meritorious Collecting and Curating in Buddhist Southeast Asia
LOCATION:SOAS: Russell Square: College Buildings
URL;VALUE=URI:https://www.soas.ac.uk/about/event/meritorious-collecting-an
 d-curating-buddhist-southeast-asia
END:VEVENT
END:VCALENDAR