BEGIN:VCALENDAR
VERSION:2.0
PRODID:-//sebbo.net//ical-generator//EN
URL:https://lectures.london/soas/the-penrose-lectures-202526/calender.ics
NAME:Lectures London
X-WR-CALNAME:Lectures London
TIMEZONE-ID:Europe/London
X-WR-TIMEZONE:Europe/London
BEGIN:VEVENT
UID:dfb51b2d-31a5-467b-8911-68387d5ad54c
SEQUENCE:0
DTSTAMP:20260423T063613
DTSTART:20260428T170000
DTEND:20260428T180000
SUMMARY:The Penrose Lectures 2025/26
LOCATION:SOAS: SOAS\, University of London
URL;VALUE=URI:https://www.soas.ac.uk/about/event/penrose-lectures-2025/26
END:VEVENT
END:VCALENDAR