BEGIN:VCALENDAR
VERSION:2.0
PRODID:-//sebbo.net//ical-generator//EN
URL:https://lectures.london/the-francis-crick-institute/crick-lecture-char
 les-swanton/calender.ics
NAME:Lectures London
X-WR-CALNAME:Lectures London
TIMEZONE-ID:Europe/London
X-WR-TIMEZONE:Europe/London
BEGIN:VEVENT
UID:1bc6853b-eab5-4a90-8043-dab066519180
SEQUENCE:0
DTSTAMP:20260424T063623
DTSTART:20260430T150000
DTEND:20260430T160000
SUMMARY:Crick Lecture | Charles Swanton
LOCATION:The Francis Crick Institute: The Francis Crick Institute
URL;VALUE=URI:https://www.crick.ac.uk/whats-on/crick-lecture-charles-swant
 on
END:VEVENT
END:VCALENDAR