BEGIN:VCALENDAR
VERSION:2.0
PRODID:-//sebbo.net//ical-generator//EN
URL:https://lectures.london/the-francis-crick-institute/crick-lecture-prof
 essor-menna-clatworthy/calender.ics
NAME:Lectures London
X-WR-CALNAME:Lectures London
TIMEZONE-ID:Europe/London
X-WR-TIMEZONE:Europe/London
BEGIN:VEVENT
UID:a4693368-53f3-4406-ab5f-bd730d0e61d5
SEQUENCE:0
DTSTAMP:20260420T064134
DTSTART:20260423T150000
DTEND:20260423T160000
SUMMARY:Crick Lecture | Professor Menna Clatworthy
LOCATION:The Francis Crick Institute: The Francis Crick Institute
URL;VALUE=URI:https://www.crick.ac.uk/whats-on/crick-lecture-professor-men
 na-clatworthy
END:VEVENT
END:VCALENDAR