BEGIN:VCALENDAR
VERSION:2.0
PRODID:-//sebbo.net//ical-generator//EN
URL:https://lectures.london/the-royal-society/david-attenborough-prize-lec
 ture-the-battle-for-reality/calender.ics
NAME:Lectures London
X-WR-CALNAME:Lectures London
TIMEZONE-ID:Europe/London
X-WR-TIMEZONE:Europe/London
BEGIN:VEVENT
UID:e6e6bf1a-9495-4683-ba8c-bdf0d9732670
SEQUENCE:0
DTSTAMP:20260420T064134
DTSTART:20260422T173000
DTEND:20260422T183000
SUMMARY:David Attenborough Prize Lecture: The battle for reality
LOCATION:The Royal Society: The Royal Society
URL;VALUE=URI:https://royalsociety.org/science-events-and-lectures/2026/04
 /attenborough-prize-lecture/
END:VEVENT
END:VCALENDAR