BEGIN:VCALENDAR
VERSION:2.0
PRODID:-//sebbo.net//ical-generator//EN
URL:https://lectures.london/university-college-london/cancelled-freedom-sh
 ip-a-conversation-with-marcus-rediker-institute-of-advanced-studies-ias-uc
 l-university-college-london/calender.ics
NAME:Lectures London
X-WR-CALNAME:Lectures London
TIMEZONE-ID:Europe/London
X-WR-TIMEZONE:Europe/London
BEGIN:VEVENT
UID:699fdfdf-9e09-4b94-9f78-04b1a0aa651e
SEQUENCE:0
DTSTAMP:20260420T064134
DTSTART:20260422T160000
DTEND:20260422T200000
SUMMARY:CANCELLED Freedom Ship: a conversation with Marcus Rediker | Insti
 tute of Advanced Studies (IAS) - UCL – University College London
LOCATION:University College London: London\, Gower Street\, Garwood Lectur
 e Theatre 9
DESCRIPTION:The SPRC warmly welcomes Marcus Rediker who will be discussing
  his latest book.
URL;VALUE=URI:https://www.ucl.ac.uk/institute-of-advanced-studies/events/2
 026/apr/cancelled-freedom-ship-conversation-marcus-rediker
END:VEVENT
END:VCALENDAR