BEGIN:VCALENDAR
VERSION:2.0
PRODID:-//sebbo.net//ical-generator//EN
URL:https://lectures.london/university-college-london/radical-heritage-sci
 ence-ideas-and-methods-for-social-good/calender.ics
NAME:Lectures London
X-WR-CALNAME:Lectures London
TIMEZONE-ID:Europe/London
X-WR-TIMEZONE:Europe/London
BEGIN:VEVENT
UID:850ff90e-7882-475a-b084-d4a4db1ba402
SEQUENCE:0
DTSTAMP:20260419T063232
DTSTART:20260423T163000
DTEND:20260423T183000
SUMMARY:Radical heritage science: ideas and methods for social good
LOCATION:University College London: 
DESCRIPTION:Join us for the inaugural lecture of Josep Grau-Bové\, Direct
 or and Professor in Heritage Science at UCL Institute for Sustainable Heri
 tage.
URL;VALUE=URI:https://www.ucl.ac.uk/bartlett/events/2026/apr/radical-herit
 age-science-ideas-and-methods-social-good
END:VEVENT
END:VCALENDAR