BEGIN:VCALENDAR
VERSION:2.0
PRODID:-//sebbo.net//ical-generator//EN
URL:https://lectures.london/university-college-london/wellbeing-in-heritag
 e-language-education-borrowing-a-page-from-transformative-positive-psychol
 ogy/calender.ics
NAME:Lectures London
X-WR-CALNAME:Lectures London
TIMEZONE-ID:Europe/London
X-WR-TIMEZONE:Europe/London
BEGIN:VEVENT
UID:65eed647-1b27-49a1-bee5-f7e677dcb8c9
SEQUENCE:0
DTSTAMP:20260422T063506
DTSTART:20260427T170000
DTEND:20260427T183000
SUMMARY:Well-being in heritage language education: Borrowing a page from t
 ransformative positive psychology
LOCATION:University College London: 
DESCRIPTION:Exploring how well-being in heritage language education emerge
 s through the interaction of individual and collective factors.
URL;VALUE=URI:https://www.ucl.ac.uk/ioe/events/2026/apr/well-being-heritag
 e-language-education-borrowing-page-transformative-positive-psychology
END:VEVENT
END:VCALENDAR