BEGIN:VCALENDAR
VERSION:2.0
PRODID:-//sebbo.net//ical-generator//EN
URL:https://lectures.london/university-college-london/where-is-the-unified
 -patent-court-heading/calender.ics
NAME:Lectures London
X-WR-CALNAME:Lectures London
TIMEZONE-ID:Europe/London
X-WR-TIMEZONE:Europe/London
BEGIN:VEVENT
UID:7853a983-03a4-4416-9fca-9568875c6151
SEQUENCE:0
DTSTAMP:20260420T064134
DTSTART:20260422T170000
DTEND:20260422T183000
SUMMARY:Where is the Unified Patent Court heading?
LOCATION:University College London: 
DESCRIPTION:An Institute of Brand &amp\; Innovation Law event
URL;VALUE=URI:https://www.ucl.ac.uk/laws/events/2026/apr/where-unified-pat
 ent-court-heading
END:VEVENT
END:VCALENDAR