BEGIN:VCALENDAR
VERSION:2.0
PRODID:-//sebbo.net//ical-generator//EN
URL:https://lectures.london/wellcome-collection/artists-in-conversation/ca
 lender.ics
NAME:Lectures London
X-WR-CALNAME:Lectures London
TIMEZONE-ID:Europe/London
X-WR-TIMEZONE:Europe/London
BEGIN:VEVENT
UID:0afefa2d-aec1-4a7f-89ad-df467342baa7
SEQUENCE:0
DTSTAMP:20260425T062826
DTSTART:20260430T170000
DTEND:20260430T193000
SUMMARY:Artists in Conversation
LOCATION:Wellcome Collection: The Forum
URL;VALUE=URI:https://wellcomecollection.org/events/abl5TBEAACEARQBP
END:VEVENT
END:VCALENDAR